BEGIN:VCALENDAR
VERSION:2.0
PRODID:-//Contratero//ES
CALSCALE:GREGORIAN
METHOD:PUBLISH
BEGIN:VEVENT
UID:25 026 SM JD EM@contratero.es
DTSTAMP:20260421T104353Z
DTSTART:20250729T235959
DTEND:20250730T005959
SUMMARY:Cierre: Suministro de licencias y soporte para las platafo
DESCRIPTION:Suministro de licencias y soporte para las plataformas de virtualización corporativas del Gobierno de Canarias\, Lotes 1 y 2.\\n\\nOrganismo: Viceconsejería de la Presidencia del Gobierno de Canarias\\n\\nVer en Contratero: https://contratero.es/contracts/25 026 SM JD EM
URL:https://contratero.es/contracts/25 026 SM JD EM
STATUS:CONFIRMED
BEGIN:VALARM
TRIGGER:-P1D
ACTION:DISPLAY
DESCRIPTION:Recordatorio: Suministro de licencias y sopo
END:VALARM
END:VEVENT
END:VCALENDAR